BEGIN:VCALENDAR
VERSION:2.0
PRODID:-//eventon.com NONSGML v1.0//EN
CALSCALE:GREGORIAN
METHOD:PUBLISH
BEGIN:VEVENT
UID:69e6351203c22
DTSTAMP:20260420T141546Z
DTSTART:20260825T080000Z
DTEND:20260902T210000Z
LOCATION:
SUMMARY:Nick Reader
DESCRIPTION:Photographic Exhibition &#8211; 25th August &#8211; 2nd Septemb
 er\nhttps://rockinstitute.org.uk/events/nick-reader-2/
URL:https://rockinstitute.org.uk/events/nick-reader-2/
END:VEVENT
END:VCALENDAR