BEGIN:VCALENDAR
VERSION:2.0
PRODID:-//eventon.com NONSGML v1.0//EN
CALSCALE:GREGORIAN
METHOD:PUBLISH
BEGIN:VEVENT
UID:69e60339eddad
DTSTAMP:20260420T104305Z
DTSTART:20260807T080000Z
DTEND:20260816T210000Z
LOCATION:
SUMMARY:Simon Mcnair Scott
DESCRIPTION:Art Exhibition &#8211; 7th &#8211; 16th August\nhttps://rockins
 titute.org.uk/events/simon-mcnair-scott/
URL:https://rockinstitute.org.uk/events/simon-mcnair-scott/
END:VEVENT
END:VCALENDAR