BEGIN:VCALENDAR
VERSION:2.0
PRODID:-//eventon.com NONSGML v1.0//EN
CALSCALE:GREGORIAN
METHOD:PUBLISH
BEGIN:VEVENT
UID:69e5ec35d3eee
DTSTAMP:20260420T090453Z
DTSTART:20260330T170000Z
DTEND:20260405T210000Z
LOCATION:
SUMMARY:David Penhale
DESCRIPTION:Art Exhibition &#8211; 31st March &#8211; 5th April\nhttps://ro
 ckinstitute.org.uk/events/david-penhale/
URL:https://rockinstitute.org.uk/events/david-penhale/
END:VEVENT
END:VCALENDAR