BEGIN:VCALENDAR
VERSION:2.0
PRODID:-//eventon.com NONSGML v1.0//EN
CALSCALE:GREGORIAN
METHOD:PUBLISH
BEGIN:VEVENT
UID:69e6031b28f43
DTSTAMP:20260420T104235Z
DTSTART:20260218T150000Z
DTEND:20260222T210000Z
LOCATION:
SUMMARY:Jill Gompertz
DESCRIPTION:Art Exhibition &#8211; 19th &#8211; 22nd February\nhttps://rock
 institute.org.uk/events/jill-gompertz/
URL:https://rockinstitute.org.uk/events/jill-gompertz/
END:VEVENT
END:VCALENDAR