BEGIN:VCALENDAR
VERSION:2.0
PRODID:-//eventon.com NONSGML v1.0//EN
CALSCALE:GREGORIAN
METHOD:PUBLISH
BEGIN:VEVENT
UID:69e6ac0d5b569
DTSTAMP:20260420T224325Z
DTSTART:20261130T140000Z
DTEND:20261130T170000Z
LOCATION:
SUMMARY:St. Minver Short Matt Bowls
DESCRIPTION:Indoor Bowls\nhttps://rockinstitute.org.uk/events/st-minver-sho
 rt-matt-bowls-7/var/ri-10.l-L1
URL:https://rockinstitute.org.uk/events/st-minver-short-matt-bowls-7/var/ri-10.l-L1
END:VEVENT
END:VCALENDAR