BEGIN:VCALENDAR
VERSION:2.0
PRODID:-//eventon.com NONSGML v1.0//EN
CALSCALE:GREGORIAN
METHOD:PUBLISH
BEGIN:VEVENT
UID:69e5ebfd43689
DTSTAMP:20260420T090357Z
DTSTART:20250821
DTEND:20250822
LOCATION:
SUMMARY:Valerie Wright
DESCRIPTION:Art Exhibition 21st &#8211; 26th August\nhttps://rockinstitute.
 org.uk/events/valerie-wright/
URL:https://rockinstitute.org.uk/events/valerie-wright/
END:VEVENT
END:VCALENDAR